BEGIN:VCALENDAR
VERSION:2.0
PRODID:-//Squarespace Inc/Squarespace 6//v6//EN
BEGIN:VEVENT
UID:57b19ba69f745655e880538a@squarespace.com
DTSTAMP:20161031T084039Z
DTSTART:20161105T123000Z
DTEND:20161105T200000Z
SUMMARY:Organic Gardening Workshop - Sustainable Living Skills Series
GEO:-20.316962;57.533086
LOCATION:Le velo Vert\, Charles Lees Road\, Curepipe\, Mauritius
END:VEVENT
END:VCALENDAR
