BEGIN:VCALENDAR
VERSION:2.0
PRODID:-//Squarespace Inc/Squarespace 6//v6//EN
BEGIN:VEVENT
UID:57b1d2b1579fb347ba7b7745@squarespace.com
DTSTAMP:20161031T083639Z
DTSTART:20161119T133000Z
DTEND:20161119T200000Z
SUMMARY:Balcony & Small Space Permaculture Workshop - Sustainable Living Sk
 ills Series
GEO:-20.317087;57.526529
LOCATION:Le velo Vert\, Charles Lees Road\, CUREPIPE\, CUREPIPE\, Mauritius
END:VEVENT
END:VCALENDAR
