BEGIN:VCALENDAR
VERSION:2.0
PRODID:-//Squarespace Inc/Squarespace 6//v6//EN
BEGIN:VEVENT
UID:57b1b10e2994ca484e938a01@squarespace.com
DTSTAMP:20161031T083447Z
DTSTART:20161112T133000Z
DTEND:20161112T210000Z
SUMMARY:Introduction to Permaculture Workshop - Sustainable Living Skills S
 eries
GEO:-20.316962;57.533086
LOCATION:Le velo Vert\, Charles Lees Road\, Curepipe\, Mauritius
END:VEVENT
END:VCALENDAR
